Workbook

Sheet Spend Plan
B1: Attachment 2 | O1: Siskiyou
B2: COVID-19 ELC Enhancing Detection
B3: Spend Plan
A5: =O1 -> Siskiyou | B5: County Name: | C5: =VLOOKUP(A5,'[1]ELC Q1 Payment'!$A$3:$K$60,1,0) -> Siskiyou
B7: Position Title* | C7: Annual Salary | E7: FTE % | F7: Strategy 1 | G7: Strategy 2 | H7: Strategy 3 | I7: Strategy 4 | J7: Strategy 5 | K7: Strategy 6 | L7: COMBINED TOTAL
L8: =SUM(F8:K8) -> 0
L9: =SUM(F9:K9) -> 0
L10: =SUM(F10:K10) -> 0
L11: =SUM(F11:K11) -> 0
L12: =SUM(F12:K12) -> 0
L13: =SUM(F13:K13) -> 0
L14: =SUM(F14:K14) -> 0
L15: =SUM(F15:K15) -> 0
B16: Fringe | C16: 0 | F16: =SUM(F8:F15)*C16 -> 0 | G16: =SUM(G8:G15)*D16 -> 0 | H16: =SUM(H8:H15)*E16 -> 0 | I16: =SUM(I8:I15)*F16 -> 0 | J16: =SUM(J8:J15)*G16 -> 0 | K16: =SUM(K8:K15)*H16 -> 0 | L16: =SUM(L8:L15)*C16 -> 0
B17: Total Personnel | F17: =SUM(F8:F16) -> 0 | G17: =SUM(G8:G16) -> 0 | H17: =SUM(H8:H16) -> 0 | I17: =SUM(I8:I16) -> 0 | J17: =SUM(J8:J16) -> 0 | K17: =SUM(K8:K16) -> 0 | L17: =SUM(L8:L16) -> 0
B18: Supplies | L18: =SUM(F18:K18) -> 0
B20: Total Supplies | F20: =SUM(F18:F19) -> 0 | G20: =SUM(G18:G19) -> 0 | H20: =SUM(H18:H19) -> 0 | I20: =SUM(I18:I19) -> 0 | J20: =SUM(J18:J19) -> 0 | K20: =SUM(K18:K19) -> 0 | L20: =SUM(L18:L19) -> 0
B21: Travel
B22: In-State | L22: =SUM(F22:K22) -> 0
B23: Out-of-State | L23: =SUM(F23:K23) -> 0
B24: Total Travel | F24: =SUM(F22:F23) -> 0 | G24: =SUM(G22:G23) -> 0 | H24: =SUM(H22:H23) -> 0 | I24: =SUM(I22:I23) -> 0 | J24: =SUM(J22:J23) -> 0 | K24: =SUM(K22:K23) -> 0 | L24: =SUM(L22:L23) -> 0
B25: Equipment | L25: =SUM(F25:K25) -> 0
B27: Total Equipment | F27: =SUM(F25:F26) -> 0 | G27: =SUM(G25:G26) -> 0 | H27: =SUM(H25:H26) -> 0 | I27: =SUM(I25:I26) -> 0 | J27: =SUM(J25:J26) -> 0 | K27: =SUM(K25:K26) -> 0 | L27: =SUM(L25:L26) -> 0
B28: Other | L28: =SUM(F28:K28) -> 0
B30: Total Other | F30: =SUM(F28:F29) -> 0 | G30: =SUM(G28:G29) -> 0 | H30: =SUM(H28:H29) -> 0 | I30: =SUM(I28:I29) -> 0 | J30: =SUM(J28:J29) -> 0 | K30: =SUM(K28:K29) -> 0 | L30: =L28 -> 0
B31: Subcontracts:
L32: =SUM(F31:K31) -> 0
L33: =SUM(F32:K32) -> 0
L34: =SUM(F33:K33) -> 0
L35: =SUM(F34:K34) -> 0
L36: =SUM(F35:K35) -> 0
L37: =SUM(F36:K36) -> 0
L38: =SUM(F37:K37) -> 0
L39: =SUM(F38:K38) -> 0
L40: =SUM(F39:K39) -> 0
L41: =SUM(F40:K40) -> 0
B42: Total Subcontracts | F42: =SUM(F31:F41) -> 0 | G42: =SUM(G31:G41) -> 0 | H42: =SUM(H31:H41) -> 0 | I42: =SUM(I31:I41) -> 0 | J42: =SUM(J31:J41) -> 0 | K42: =SUM(K31:K41) -> 0 | L42: =SUM(L31:L41) -> 0
B43: Indirect Cost | C43: 0 | F43: =F17*C43 -> 0 | G43: =G17*D43 -> 0 | H43: =H17*E43 -> 0 | I43: =I17*F43 -> 0 | J43: =J17*G43 -> 0 | K43: =K17*H43 -> 0 | L43: =SUM(F43:K43) -> 0
B45: Total Indirect | F45: =SUM(F43:F44) -> 0 | G45: =SUM(G43:G44) -> 0 | H45: =SUM(H43:H44) -> 0 | I45: =SUM(I43:I44) -> 0 | J45: =SUM(J43:J44) -> 0 | K45: =SUM(K43:K44) -> 0 | L45: =SUM(L43:L44) -> 0
B47: TOTAL | F47: =SUM(F45,F42,F30,F27,F24,F20,F17) -> 0 | G47: =SUM(G45,G42,G30,G27,G24,G20,G17) -> 0 | H47: =SUM(H45,H42,H30,H27,H24,H20,H17) -> 0 | I47: =SUM(I45,I42,I30,I27,I24,I20,I17) -> 0 | J47: =SUM(J45,J42,J30,J27,J24,J20,J17) -> 0 | K47: =SUM(K45,K42,K30,K27,K24,K20,K17) -> 0 | L47: =SUM(L17,L20,L24,L27,L30,L42,L45) -> 0
...

Sheet Spend Plan Report Summary
B1: County Name: | C1: =VLOOKUP(B1,'Spend Plan'!B5:L5,2,0) -> Siskiyou | P1: alpine
B3: Combined Strategy | C3: Total Award
A4: =P1 -> alpine | C4: ='Spend Plan'!L49 -> 1736390
B6: Budget | D6: Year 1 Quarterly Expenditure Report | H6: Year 2 Quarterly Expenditure Report | L6: Year 3 Quarterly Expenditure Report | N6: Final Closeout | O6: Balance
B7: Budget Category | C7: Budgeted Amount | D7: 1st Quarter | E7: 2nd Quarter | F7: 3rd Quarter | G7: 4th Quarter | H7: 1st Quarter | I7: 2nd Quarter | J7: 3rd Quarter | K7: 4th Quarter | L7: 1st Quarter | M7: 2nd Quarter | P7: % change
B8: Salary | C8: =SUM('Spend Plan'!L9) -> 0 | D8: =VLOOKUP($B8,'Strategy 1 Quarterly Spend Plan'!$B$8:$M$18,3,0)+VLOOKUP($B8,'Strategy 2 Quarterly Spend'!$B$8:$M$18,3,0)+VLOOKUP('Spend Plan Report Summary'!$B8,'Strategy 3 Quarterly Spend'!$B$8:$M$18,3,0)+VLOOKUP('Spend Plan Report Summary'!$B8,'Strategy 4 Quarterly Spend'!$B$8:$M$18,3,0)+VLOOKUP('Spend Plan Report Summary'!$B8,'Strategy 5 Quarterly Spend'!$B$8:$M$18,3,0)+VLOOKUP('Spend Plan Report Summary'!$B8,'Strategy 6 Quarterly Spend'!$B$8:$M$18,3,0) -> 0 | E8: =VLOOKUP($B8,'Strategy 1 Quarterly Spend Plan'!$B$8:$M$18,4,0)+VLOOKUP($B8,'Strategy 2 Quarterly Spend'!$B$8:$M$18,4,0)+VLOOKUP('Spend Plan Report Summary'!$B8,'Strategy 3 Quarterly Spend'!$B$8:$M$18,4,0)+VLOOKUP('Spend Plan Report Summary'!$B8,'Strategy 4 Quarterly Spend'!$B$8:$M$18,4,0)+VLOOKUP('Spend Plan Report Summary'!$B8,'Strategy 5 Quarterly Spend'!$B$8:$M$18,4,0)+VLOOKUP('Spend Plan Report Summary'!$B8,'Strategy 6 Quarterly Spend'!$B$8:$M$18,4,0) -> 0 | F8: =VLOOKUP($B8,'Strategy 1 Quarterly Spend Plan'!$B$8:$M$18,5,0)+VLOOKUP($B8,'Strategy 2 Quarterly Spend'!$B$8:$M$18,5,0)+VLOOKUP('Spend Plan Report Summary'!$B8,'Strategy 3 Quarterly Spend'!$B$8:$M$18,5,0)+VLOOKUP('Spend Plan Report Summary'!$B8,'Strategy 4 Quarterly Spend'!$B$8:$M$18,5,0)+VLOOKUP('Spend Plan Report Summary'!$B8,'Strategy 5 Quarterly Spend'!$B$8:$M$18,5,0)+VLOOKUP('Spend Plan Report Summary'!$B8,'Strategy 6 Quarterly Spend'!$B$8:$M$18,5,0) -> 0 | G8: =VLOOKUP($B8,'Strategy 1 Quarterly Spend Plan'!$B$8:$M$18,6,0)+VLOOKUP($B8,'Strategy 2 Quarterly Spend'!$B$8:$M$18,6,0)+VLOOKUP('Spend Plan Report Summary'!$B8,'Strategy 3 Quarterly Spend'!$B$8:$M$18,6,0)+VLOOKUP('Spend Plan Report Summary'!$B8,'Strategy 4 Quarterly Spend'!$B$8:$M$18,6,0)+VLOOKUP('Spend Plan Report Summary'!$B8,'Strategy 5 Quarterly Spend'!$B$8:$M$18,6,0)+VLOOKUP('Spend Plan Report Summary'!$B8,'Strategy 6 Quarterly Spend'!$B$8:$M$18,6,0) -> 0 | H8: =VLOOKUP($B8,'Strategy 1 Quarterly Spend Plan'!$B$8:$M$18,5,0)+VLOOKUP($B8,'Strategy 2 Quarterly Spend'!$B$8:$M$18,5,0)+VLOOKUP('Spend Plan Report Summary'!$B8,'Strategy 3 Quarterly Spend'!$B$8:$M$18,5,0)+VLOOKUP('Spend Plan Report Summary'!$B8,'Strategy 4 Quarterly Spend'!$B$8:$M$18,5,0)+VLOOKUP('Spend Plan Report Summary'!$B8,'Strategy 5 Quarterly Spend'!$B$8:$M$18,5,0)+VLOOKUP('Spend Plan Report Summary'!$B8,'Strategy 6 Quarterly Spend'!$B$8:$M$18,5,0) -> 0 | I8: =VLOOKUP($B8,'Strategy 1 Quarterly Spend Plan'!$B$8:$M$18,6,0)+VLOOKUP($B8,'Strategy 2 Quarterly Spend'!$B$8:$M$18,6,0)+VLOOKUP('Spend Plan Report Summary'!$B8,'Strategy 3 Quarterly Spend'!$B$8:$M$18,6,0)+VLOOKUP('Spend Plan Report Summary'!$B8,'Strategy 4 Quarterly Spend'!$B$8:$M$18,6,0)+VLOOKUP('Spend Plan Report Summary'!$B8,'Strategy 5 Quarterly Spend'!$B$8:$M$18,6,0)+VLOOKUP('Spend Plan Report Summary'!$B8,'Strategy 6 Quarterly Spend'!$B$8:$M$18,6,0) -> 0 | J8: =VLOOKUP($B8,'Strategy 1 Quarterly Spend Plan'!$B$8:$M$18,5,0)+VLOOKUP($B8,'Strategy 2 Quarterly Spend'!$B$8:$M$18,5,0)+VLOOKUP('Spend Plan Report Summary'!$B8,'Strategy 3 Quarterly Spend'!$B$8:$M$18,5,0)+VLOOKUP('Spend Plan Report Summary'!$B8,'Strategy 4 Quarterly Spend'!$B$8:$M$18,5,0)+VLOOKUP('Spend Plan Report Summary'!$B8,'Strategy 5 Quarterly Spend'!$B$8:$M$18,5,0)+VLOOKUP('Spend Plan Report Summary'!$B8,'Strategy 6 Quarterly Spend'!$B$8:$M$18,5,0) -> 0 | K8: =VLOOKUP($B8,'Strategy 1 Quarterly Spend Plan'!$B$8:$M$18,6,0)+VLOOKUP($B8,'Strategy 2 Quarterly Spend'!$B$8:$M$18,6,0)+VLOOKUP('Spend Plan Report Summary'!$B8,'Strategy 3 Quarterly Spend'!$B$8:$M$18,6,0)+VLOOKUP('Spend Plan Report Summary'!$B8,'Strategy 4 Quarterly Spend'!$B$8:$M$18,6,0)+VLOOKUP('Spend Plan Report Summary'!$B8,'Strategy 5 Quarterly Spend'!$B$8:$M$18,6,0)+VLOOKUP('Spend Plan Report Summary'!$B8,'Strategy 6 Quarterly Spend'!$B$8:$M$18,6,0) -> 0 | L8: =VLOOKUP($B8,'Strategy 1 Quarterly Spend Plan'!$B$8:$M$18,5,0)+VLOOKUP($B8,'Strategy 2 Quarterly Spend'!$B$8:$M$18,5,0)+VLOOKUP('Spend Plan Report Summary'!$B8,'Strategy 3 Quarterly Spend'!$B$8:$M$18,5,0)+VLOOKUP('Spend Plan Report Summary'!$B8,'Strategy 4 Quarterly Spend'!$B$8:$M$18,5,0)+VLOOKUP('Spend Plan Report Summary'!$B8,'Strategy 5 Quarterly Spend'!$B$8:$M$18,5,0)+VLOOKUP('Spend Plan Report Summary'!$B8,'Strategy 6 Quarterly Spend'!$B$8:$M$18,5,0) -> 0 | M8: =VLOOKUP($B8,'Strategy 1 Quarterly Spend Plan'!$B$8:$M$18,6,0)+VLOOKUP($B8,'Strategy 2 Quarterly Spend'!$B$8:$M$18,6,0)+VLOOKUP('Spend Plan Report Summary'!$B8,'Strategy 3 Quarterly Spend'!$B$8:$M$18,6,0)+VLOOKUP('Spend Plan Report Summary'!$B8,'Strategy 4 Quarterly Spend'!$B$8:$M$18,6,0)+VLOOKUP('Spend Plan Report Summary'!$B8,'Strategy 5 Quarterly Spend'!$B$8:$M$18,6,0)+VLOOKUP('Spend Plan Report Summary'!$B8,'Strategy 6 Quarterly Spend'!$B$8:$M$18,6,0) -> 0 | N8: =VLOOKUP($B8,'Strategy 1 Quarterly Spend Plan'!$B$8:$M$18,7,0)+VLOOKUP($B8,'Strategy 2 Quarterly Spend'!$B$8:$M$18,7,0)+VLOOKUP('Spend Plan Report Summary'!$B8,'Strategy 3 Quarterly Spend'!$B$8:$M$18,7,0)+VLOOKUP('Spend Plan Report Summary'!$B8,'Strategy 4 Quarterly Spend'!$B$8:$M$18,7,0)+VLOOKUP('Spend Plan Report Summary'!$B8,'Strategy 5 Quarterly Spend'!$B$8:$M$18,7,0)+VLOOKUP('Spend Plan Report Summary'!$B8,'Strategy 6 Quarterly Spend'!$B$8:$M$18,7,0) -> 0 | O8: =C8-SUM(D8:N8) -> 0 | P8: =(D8/C8)-1 -> #DIV/0!
B9: Fringe | C9: =SUM('Spend Plan'!L16) -> 0 | D9: =VLOOKUP($B9,'Strategy 1 Quarterly Spend Plan'!$B$8:$M$18,3,0)+VLOOKUP($B9,'Strategy 2 Quarterly Spend'!$B$8:$M$18,3,0)+VLOOKUP('Spend Plan Report Summary'!$B9,'Strategy 3 Quarterly Spend'!$B$8:$M$18,3,0)+VLOOKUP('Spend Plan Report Summary'!$B9,'Strategy 4 Quarterly Spend'!$B$8:$M$18,3,0)+VLOOKUP('Spend Plan Report Summary'!$B9,'Strategy 5 Quarterly Spend'!$B$8:$M$18,3,0)+VLOOKUP('Spend Plan Report Summary'!$B9,'Strategy 6 Quarterly Spend'!$B$8:$M$18,3,0) -> 0 | E9: =VLOOKUP($B9,'Strategy 1 Quarterly Spend Plan'!$B$8:$M$18,4,0)+VLOOKUP($B9,'Strategy 2 Quarterly Spend'!$B$8:$M$18,4,0)+VLOOKUP('Spend Plan Report Summary'!$B9,'Strategy 3 Quarterly Spend'!$B$8:$M$18,4,0)+VLOOKUP('Spend Plan Report Summary'!$B9,'Strategy 4 Quarterly Spend'!$B$8:$M$18,4,0)+VLOOKUP('Spend Plan Report Summary'!$B9,'Strategy 5 Quarterly Spend'!$B$8:$M$18,4,0)+VLOOKUP('Spend Plan Report Summary'!$B9,'Strategy 6 Quarterly Spend'!$B$8:$M$18,4,0) -> 0 | F9: =VLOOKUP($B9,'Strategy 1 Quarterly Spend Plan'!$B$8:$M$18,5,0)+VLOOKUP($B9,'Strategy 2 Quarterly Spend'!$B$8:$M$18,5,0)+VLOOKUP('Spend Plan Report Summary'!$B9,'Strategy 3 Quarterly Spend'!$B$8:$M$18,5,0)+VLOOKUP('Spend Plan Report Summary'!$B9,'Strategy 4 Quarterly Spend'!$B$8:$M$18,5,0)+VLOOKUP('Spend Plan Report Summary'!$B9,'Strategy 5 Quarterly Spend'!$B$8:$M$18,5,0)+VLOOKUP('Spend Plan Report Summary'!$B9,'Strategy 6 Quarterly Spend'!$B$8:$M$18,5,0) -> 0 | G9: =VLOOKUP($B9,'Strategy 1 Quarterly Spend Plan'!$B$8:$M$18,6,0)+VLOOKUP($B9,'Strategy 2 Quarterly Spend'!$B$8:$M$18,6,0)+VLOOKUP('Spend Plan Report Summary'!$B9,'Strategy 3 Quarterly Spend'!$B$8:$M$18,6,0)+VLOOKUP('Spend Plan Report Summary'!$B9,'Strategy 4 Quarterly Spend'!$B$8:$M$18,6,0)+VLOOKUP('Spend Plan Report Summary'!$B9,'Strategy 5 Quarterly Spend'!$B$8:$M$18,6,0)+VLOOKUP('Spend Plan Report Summary'!$B9,'Strategy 6 Quarterly Spend'!$B$8:$M$18,6,0) -> 0 | H9: =VLOOKUP($B9,'Strategy 1 Quarterly Spend Plan'!$B$8:$M$18,5,0)+VLOOKUP($B9,'Strategy 2 Quarterly Spend'!$B$8:$M$18,5,0)+VLOOKUP('Spend Plan Report Summary'!$B9,'Strategy 3 Quarterly Spend'!$B$8:$M$18,5,0)+VLOOKUP('Spend Plan Report Summary'!$B9,'Strategy 4 Quarterly Spend'!$B$8:$M$18,5,0)+VLOOKUP('Spend Plan Report Summary'!$B9,'Strategy 5 Quarterly Spend'!$B$8:$M$18,5,0)+VLOOKUP('Spend Plan Report Summary'!$B9,'Strategy 6 Quarterly Spend'!$B$8:$M$18,5,0) -> 0 | I9: =VLOOKUP($B9,'Strategy 1 Quarterly Spend Plan'!$B$8:$M$18,6,0)+VLOOKUP($B9,'Strategy 2 Quarterly Spend'!$B$8:$M$18,6,0)+VLOOKUP('Spend Plan Report Summary'!$B9,'Strategy 3 Quarterly Spend'!$B$8:$M$18,6,0)+VLOOKUP('Spend Plan Report Summary'!$B9,'Strategy 4 Quarterly Spend'!$B$8:$M$18,6,0)+VLOOKUP('Spend Plan Report Summary'!$B9,'Strategy 5 Quarterly Spend'!$B$8:$M$18,6,0)+VLOOKUP('Spend Plan Report Summary'!$B9,'Strategy 6 Quarterly Spend'!$B$8:$M$18,6,0) -> 0 | J9: =VLOOKUP($B9,'Strategy 1 Quarterly Spend Plan'!$B$8:$M$18,5,0)+VLOOKUP($B9,'Strategy 2 Quarterly Spend'!$B$8:$M$18,5,0)+VLOOKUP('Spend Plan Report Summary'!$B9,'Strategy 3 Quarterly Spend'!$B$8:$M$18,5,0)+VLOOKUP('Spend Plan Report Summary'!$B9,'Strategy 4 Quarterly Spend'!$B$8:$M$18,5,0)+VLOOKUP('Spend Plan Report Summary'!$B9,'Strategy 5 Quarterly Spend'!$B$8:$M$18,5,0)+VLOOKUP('Spend Plan Report Summary'!$B9,'Strategy 6 Quarterly Spend'!$B$8:$M$18,5,0) -> 0 | K9: =VLOOKUP($B9,'Strategy 1 Quarterly Spend Plan'!$B$8:$M$18,6,0)+VLOOKUP($B9,'Strategy 2 Quarterly Spend'!$B$8:$M$18,6,0)+VLOOKUP('Spend Plan Report Summary'!$B9,'Strategy 3 Quarterly Spend'!$B$8:$M$18,6,0)+VLOOKUP('Spend Plan Report Summary'!$B9,'Strategy 4 Quarterly Spend'!$B$8:$M$18,6,0)+VLOOKUP('Spend Plan Report Summary'!$B9,'Strategy 5 Quarterly Spend'!$B$8:$M$18,6,0)+VLOOKUP('Spend Plan Report Summary'!$B9,'Strategy 6 Quarterly Spend'!$B$8:$M$18,6,0) -> 0 | L9: =VLOOKUP($B9,'Strategy 1 Quarterly Spend Plan'!$B$8:$M$18,5,0)+VLOOKUP($B9,'Strategy 2 Quarterly Spend'!$B$8:$M$18,5,0)+VLOOKUP('Spend Plan Report Summary'!$B9,'Strategy 3 Quarterly Spend'!$B$8:$M$18,5,0)+VLOOKUP('Spend Plan Report Summary'!$B9,'Strategy 4 Quarterly Spend'!$B$8:$M$18,5,0)+VLOOKUP('Spend Plan Report Summary'!$B9,'Strategy 5 Quarterly Spend'!$B$8:$M$18,5,0)+VLOOKUP('Spend Plan Report Summary'!$B9,'Strategy 6 Quarterly Spend'!$B$8:$M$18,5,0) -> 0 | M9: =VLOOKUP($B9,'Strategy 1 Quarterly Spend Plan'!$B$8:$M$18,6,0)+VLOOKUP($B9,'Strategy 2 Quarterly Spend'!$B$8:$M$18,6,0)+VLOOKUP('Spend Plan Report Summary'!$B9,'Strategy 3 Quarterly Spend'!$B$8:$M$18,6,0)+VLOOKUP('Spend Plan Report Summary'!$B9,'Strategy 4 Quarterly Spend'!$B$8:$M$18,6,0)+VLOOKUP('Spend Plan Report Summary'!$B9,'Strategy 5 Quarterly Spend'!$B$8:$M$18,6,0)+VLOOKUP('Spend Plan Report Summary'!$B9,'Strategy 6 Quarterly Spend'!$B$8:$M$18,6,0) -> 0 | N9: =VLOOKUP($B9,'Strategy 1 Quarterly Spend Plan'!$B$8:$M$18,7,0)+VLOOKUP($B9,'Strategy 2 Quarterly Spend'!$B$8:$M$18,7,0)+VLOOKUP('Spend Plan Report Summary'!$B9,'Strategy 3 Quarterly Spend'!$B$8:$M$18,7,0)+VLOOKUP('Spend Plan Report Summary'!$B9,'Strategy 4 Quarterly Spend'!$B$8:$M$18,7,0)+VLOOKUP('Spend Plan Report Summary'!$B9,'Strategy 5 Quarterly Spend'!$B$8:$M$18,7,0)+VLOOKUP('Spend Plan Report Summary'!$B9,'Strategy 6 Quarterly Spend'!$B$8:$M$18,7,0) -> 0 | O9: =C9-SUM(D9:N9) -> 0
B10: Supplies | C10: =SUM('Spend Plan'!L20) -> 0 | D10: =VLOOKUP($B10,'Strategy 1 Quarterly Spend Plan'!$B$8:$M$18,3,0)+VLOOKUP($B10,'Strategy 2 Quarterly Spend'!$B$8:$M$18,3,0)+VLOOKUP('Spend Plan Report Summary'!$B10,'Strategy 3 Quarterly Spend'!$B$8:$M$18,3,0)+VLOOKUP('Spend Plan Report Summary'!$B10,'Strategy 4 Quarterly Spend'!$B$8:$M$18,3,0)+VLOOKUP('Spend Plan Report Summary'!$B10,'Strategy 5 Quarterly Spend'!$B$8:$M$18,3,0)+VLOOKUP('Spend Plan Report Summary'!$B10,'Strategy 6 Quarterly Spend'!$B$8:$M$18,3,0) -> 0 | E10: =VLOOKUP($B10,'Strategy 1 Quarterly Spend Plan'!$B$8:$M$18,4,0)+VLOOKUP($B10,'Strategy 2 Quarterly Spend'!$B$8:$M$18,4,0)+VLOOKUP('Spend Plan Report Summary'!$B10,'Strategy 3 Quarterly Spend'!$B$8:$M$18,4,0)+VLOOKUP('Spend Plan Report Summary'!$B10,'Strategy 4 Quarterly Spend'!$B$8:$M$18,4,0)+VLOOKUP('Spend Plan Report Summary'!$B10,'Strategy 5 Quarterly Spend'!$B$8:$M$18,4,0)+VLOOKUP('Spend Plan Report Summary'!$B10,'Strategy 6 Quarterly Spend'!$B$8:$M$18,4,0) -> 0 | F10: =VLOOKUP($B10,'Strategy 1 Quarterly Spend Plan'!$B$8:$M$18,5,0)+VLOOKUP($B10,'Strategy 2 Quarterly Spend'!$B$8:$M$18,5,0)+VLOOKUP('Spend Plan Report Summary'!$B10,'Strategy 3 Quarterly Spend'!$B$8:$M$18,5,0)+VLOOKUP('Spend Plan Report Summary'!$B10,'Strategy 4 Quarterly Spend'!$B$8:$M$18,5,0)+VLOOKUP('Spend Plan Report Summary'!$B10,'Strategy 5 Quarterly Spend'!$B$8:$M$18,5,0)+VLOOKUP('Spend Plan Report Summary'!$B10,'Strategy 6 Quarterly Spend'!$B$8:$M$18,5,0) -> 0 | G10: =VLOOKUP($B10,'Strategy 1 Quarterly Spend Plan'!$B$8:$M$18,6,0)+VLOOKUP($B10,'Strategy 2 Quarterly Spend'!$B$8:$M$18,6,0)+VLOOKUP('Spend Plan Report Summary'!$B10,'Strategy 3 Quarterly Spend'!$B$8:$M$18,6,0)+VLOOKUP('Spend Plan Report Summary'!$B10,'Strategy 4 Quarterly Spend'!$B$8:$M$18,6,0)+VLOOKUP('Spend Plan Report Summary'!$B10,'Strategy 5 Quarterly Spend'!$B$8:$M$18,6,0)+VLOOKUP('Spend Plan Report Summary'!$B10,'Strategy 6 Quarterly Spend'!$B$8:$M$18,6,0) -> 0 | H10: =VLOOKUP($B10,'Strategy 1 Quarterly Spend Plan'!$B$8:$M$18,5,0)+VLOOKUP($B10,'Strategy 2 Quarterly Spend'!$B$8:$M$18,5,0)+VLOOKUP('Spend Plan Report Summary'!$B10,'Strategy 3 Quarterly Spend'!$B$8:$M$18,5,0)+VLOOKUP('Spend Plan Report Summary'!$B10,'Strategy 4 Quarterly Spend'!$B$8:$M$18,5,0)+VLOOKUP('Spend Plan Report Summary'!$B10,'Strategy 5 Quarterly Spend'!$B$8:$M$18,5,0)+VLOOKUP('Spend Plan Report Summary'!$B10,'Strategy 6 Quarterly Spend'!$B$8:$M$18,5,0) -> 0 | I10: =VLOOKUP($B10,'Strategy 1 Quarterly Spend Plan'!$B$8:$M$18,6,0)+VLOOKUP($B10,'Strategy 2 Quarterly Spend'!$B$8:$M$18,6,0)+VLOOKUP('Spend Plan Report Summary'!$B10,'Strategy 3 Quarterly Spend'!$B$8:$M$18,6,0)+VLOOKUP('Spend Plan Report Summary'!$B10,'Strategy 4 Quarterly Spend'!$B$8:$M$18,6,0)+VLOOKUP('Spend Plan Report Summary'!$B10,'Strategy 5 Quarterly Spend'!$B$8:$M$18,6,0)+VLOOKUP('Spend Plan Report Summary'!$B10,'Strategy 6 Quarterly Spend'!$B$8:$M$18,6,0) -> 0 | J10: =VLOOKUP($B10,'Strategy 1 Quarterly Spend Plan'!$B$8:$M$18,5,0)+VLOOKUP($B10,'Strategy 2 Quarterly Spend'!$B$8:$M$18,5,0)+VLOOKUP('Spend Plan Report Summary'!$B10,'Strategy 3 Quarterly Spend'!$B$8:$M$18,5,0)+VLOOKUP('Spend Plan Report Summary'!$B10,'Strategy 4 Quarterly Spend'!$B$8:$M$18,5,0)+VLOOKUP('Spend Plan Report Summary'!$B10,'Strategy 5 Quarterly Spend'!$B$8:$M$18,5,0)+VLOOKUP('Spend Plan Report Summary'!$B10,'Strategy 6 Quarterly Spend'!$B$8:$M$18,5,0) -> 0 | K10: =VLOOKUP($B10,'Strategy 1 Quarterly Spend Plan'!$B$8:$M$18,6,0)+VLOOKUP($B10,'Strategy 2 Quarterly Spend'!$B$8:$M$18,6,0)+VLOOKUP('Spend Plan Report Summary'!$B10,'Strategy 3 Quarterly Spend'!$B$8:$M$18,6,0)+VLOOKUP('Spend Plan Report Summary'!$B10,'Strategy 4 Quarterly Spend'!$B$8:$M$18,6,0)+VLOOKUP('Spend Plan Report Summary'!$B10,'Strategy 5 Quarterly Spend'!$B$8:$M$18,6,0)+VLOOKUP('Spend Plan Report Summary'!$B10,'Strategy 6 Quarterly Spend'!$B$8:$M$18,6,0) -> 0 | L10: =VLOOKUP($B10,'Strategy 1 Quarterly Spend Plan'!$B$8:$M$18,5,0)+VLOOKUP($B10,'Strategy 2 Quarterly Spend'!$B$8:$M$18,5,0)+VLOOKUP('Spend Plan Report Summary'!$B10,'Strategy 3 Quarterly Spend'!$B$8:$M$18,5,0)+VLOOKUP('Spend Plan Report Summary'!$B10,'Strategy 4 Quarterly Spend'!$B$8:$M$18,5,0)+VLOOKUP('Spend Plan Report Summary'!$B10,'Strategy 5 Quarterly Spend'!$B$8:$M$18,5,0)+VLOOKUP('Spend Plan Report Summary'!$B10,'Strategy 6 Quarterly Spend'!$B$8:$M$18,5,0) -> 0 | M10: =VLOOKUP($B10,'Strategy 1 Quarterly Spend Plan'!$B$8:$M$18,6,0)+VLOOKUP($B10,'Strategy 2 Quarterly Spend'!$B$8:$M$18,6,0)+VLOOKUP('Spend Plan Report Summary'!$B10,'Strategy 3 Quarterly Spend'!$B$8:$M$18,6,0)+VLOOKUP('Spend Plan Report Summary'!$B10,'Strategy 4 Quarterly Spend'!$B$8:$M$18,6,0)+VLOOKUP('Spend Plan Report Summary'!$B10,'Strategy 5 Quarterly Spend'!$B$8:$M$18,6,0)+VLOOKUP('Spend Plan Report Summary'!$B10,'Strategy 6 Quarterly Spend'!$B$8:$M$18,6,0) -> 0 | N10: =VLOOKUP($B10,'Strategy 1 Quarterly Spend Plan'!$B$8:$M$18,7,0)+VLOOKUP($B10,'Strategy 2 Quarterly Spend'!$B$8:$M$18,7,0)+VLOOKUP('Spend Plan Report Summary'!$B10,'Strategy 3 Quarterly Spend'!$B$8:$M$18,7,0)+VLOOKUP('Spend Plan Report Summary'!$B10,'Strategy 4 Quarterly Spend'!$B$8:$M$18,7,0)+VLOOKUP('Spend Plan Report Summary'!$B10,'Strategy 5 Quarterly Spend'!$B$8:$M$18,7,0)+VLOOKUP('Spend Plan Report Summary'!$B10,'Strategy 6 Quarterly Spend'!$B$8:$M$18,7,0) -> 0 | O10: =C10-SUM(D10:N10) -> 0 | P10: =(D10/C10)-1 -> #DIV/0!
B11: In State Travel | C11: =SUM('Spend Plan'!L22) -> 0 | D11: =VLOOKUP($B11,'Strategy 1 Quarterly Spend Plan'!$B$8:$M$18,3,0)+VLOOKUP($B11,'Strategy 2 Quarterly Spend'!$B$8:$M$18,3,0)+VLOOKUP('Spend Plan Report Summary'!$B11,'Strategy 3 Quarterly Spend'!$B$8:$M$18,3,0)+VLOOKUP('Spend Plan Report Summary'!$B11,'Strategy 4 Quarterly Spend'!$B$8:$M$18,3,0)+VLOOKUP('Spend Plan Report Summary'!$B11,'Strategy 5 Quarterly Spend'!$B$8:$M$18,3,0)+VLOOKUP('Spend Plan Report Summary'!$B11,'Strategy 6 Quarterly Spend'!$B$8:$M$18,3,0) -> 0 | E11: =VLOOKUP($B11,'Strategy 1 Quarterly Spend Plan'!$B$8:$M$18,4,0)+VLOOKUP($B11,'Strategy 2 Quarterly Spend'!$B$8:$M$18,4,0)+VLOOKUP('Spend Plan Report Summary'!$B11,'Strategy 3 Quarterly Spend'!$B$8:$M$18,4,0)+VLOOKUP('Spend Plan Report Summary'!$B11,'Strategy 4 Quarterly Spend'!$B$8:$M$18,4,0)+VLOOKUP('Spend Plan Report Summary'!$B11,'Strategy 5 Quarterly Spend'!$B$8:$M$18,4,0)+VLOOKUP('Spend Plan Report Summary'!$B11,'Strategy 6 Quarterly Spend'!$B$8:$M$18,4,0) -> 0 | F11: =VLOOKUP($B11,'Strategy 1 Quarterly Spend Plan'!$B$8:$M$18,5,0)+VLOOKUP($B11,'Strategy 2 Quarterly Spend'!$B$8:$M$18,5,0)+VLOOKUP('Spend Plan Report Summary'!$B11,'Strategy 3 Quarterly Spend'!$B$8:$M$18,5,0)+VLOOKUP('Spend Plan Report Summary'!$B11,'Strategy 4 Quarterly Spend'!$B$8:$M$18,5,0)+VLOOKUP('Spend Plan Report Summary'!$B11,'Strategy 5 Quarterly Spend'!$B$8:$M$18,5,0)+VLOOKUP('Spend Plan Report Summary'!$B11,'Strategy 6 Quarterly Spend'!$B$8:$M$18,5,0) -> 0 | G11: =VLOOKUP($B11,'Strategy 1 Quarterly Spend Plan'!$B$8:$M$18,6,0)+VLOOKUP($B11,'Strategy 2 Quarterly Spend'!$B$8:$M$18,6,0)+VLOOKUP('Spend Plan Report Summary'!$B11,'Strategy 3 Quarterly Spend'!$B$8:$M$18,6,0)+VLOOKUP('Spend Plan Report Summary'!$B11,'Strategy 4 Quarterly Spend'!$B$8:$M$18,6,0)+VLOOKUP('Spend Plan Report Summary'!$B11,'Strategy 5 Quarterly Spend'!$B$8:$M$18,6,0)+VLOOKUP('Spend Plan Report Summary'!$B11,'Strategy 6 Quarterly Spend'!$B$8:$M$18,6,0) -> 0 | H11: =VLOOKUP($B11,'Strategy 1 Quarterly Spend Plan'!$B$8:$M$18,5,0)+VLOOKUP($B11,'Strategy 2 Quarterly Spend'!$B$8:$M$18,5,0)+VLOOKUP('Spend Plan Report Summary'!$B11,'Strategy 3 Quarterly Spend'!$B$8:$M$18,5,0)+VLOOKUP('Spend Plan Report Summary'!$B11,'Strategy 4 Quarterly Spend'!$B$8:$M$18,5,0)+VLOOKUP('Spend Plan Report Summary'!$B11,'Strategy 5 Quarterly Spend'!$B$8:$M$18,5,0)+VLOOKUP('Spend Plan Report Summary'!$B11,'Strategy 6 Quarterly Spend'!$B$8:$M$18,5,0) -> 0 | I11: =VLOOKUP($B11,'Strategy 1 Quarterly Spend Plan'!$B$8:$M$18,6,0)+VLOOKUP($B11,'Strategy 2 Quarterly Spend'!$B$8:$M$18,6,0)+VLOOKUP('Spend Plan Report Summary'!$B11,'Strategy 3 Quarterly Spend'!$B$8:$M$18,6,0)+VLOOKUP('Spend Plan Report Summary'!$B11,'Strategy 4 Quarterly Spend'!$B$8:$M$18,6,0)+VLOOKUP('Spend Plan Report Summary'!$B11,'Strategy 5 Quarterly Spend'!$B$8:$M$18,6,0)+VLOOKUP('Spend Plan Report Summary'!$B11,'Strategy 6 Quarterly Spend'!$B$8:$M$18,6,0) -> 0 | J11: =VLOOKUP($B11,'Strategy 1 Quarterly Spend Plan'!$B$8:$M$18,5,0)+VLOOKUP($B11,'Strategy 2 Quarterly Spend'!$B$8:$M$18,5,0)+VLOOKUP('Spend Plan Report Summary'!$B11,'Strategy 3 Quarterly Spend'!$B$8:$M$18,5,0)+VLOOKUP('Spend Plan Report Summary'!$B11,'Strategy 4 Quarterly Spend'!$B$8:$M$18,5,0)+VLOOKUP('Spend Plan Report Summary'!$B11,'Strategy 5 Quarterly Spend'!$B$8:$M$18,5,0)+VLOOKUP('Spend Plan Report Summary'!$B11,'Strategy 6 Quarterly Spend'!$B$8:$M$18,5,0) -> 0 | K11: =VLOOKUP($B11,'Strategy 1 Quarterly Spend Plan'!$B$8:$M$18,6,0)+VLOOKUP($B11,'Strategy 2 Quarterly Spend'!$B$8:$M$18,6,0)+VLOOKUP('Spend Plan Report Summary'!$B11,'Strategy 3 Quarterly Spend'!$B$8:$M$18,6,0)+VLOOKUP('Spend Plan Report Summary'!$B11,'Strategy 4 Quarterly Spend'!$B$8:$M$18,6,0)+VLOOKUP('Spend Plan Report Summary'!$B11,'Strategy 5 Quarterly Spend'!$B$8:$M$18,6,0)+VLOOKUP('Spend Plan Report Summary'!$B11,'Strategy 6 Quarterly Spend'!$B$8:$M$18,6,0) -> 0 | L11: =VLOOKUP($B11,'Strategy 1 Quarterly Spend Plan'!$B$8:$M$18,5,0)+VLOOKUP($B11,'Strategy 2 Quarterly Spend'!$B$8:$M$18,5,0)+VLOOKUP('Spend Plan Report Summary'!$B11,'Strategy 3 Quarterly Spend'!$B$8:$M$18,5,0)+VLOOKUP('Spend Plan Report Summary'!$B11,'Strategy 4 Quarterly Spend'!$B$8:$M$18,5,0)+VLOOKUP('Spend Plan Report Summary'!$B11,'Strategy 5 Quarterly Spend'!$B$8:$M$18,5,0)+VLOOKUP('Spend Plan Report Summary'!$B11,'Strategy 6 Quarterly Spend'!$B$8:$M$18,5,0) -> 0 | M11: =VLOOKUP($B11,'Strategy 1 Quarterly Spend Plan'!$B$8:$M$18,6,0)+VLOOKUP($B11,'Strategy 2 Quarterly Spend'!$B$8:$M$18,6,0)+VLOOKUP('Spend Plan Report Summary'!$B11,'Strategy 3 Quarterly Spend'!$B$8:$M$18,6,0)+VLOOKUP('Spend Plan Report Summary'!$B11,'Strategy 4 Quarterly Spend'!$B$8:$M$18,6,0)+VLOOKUP('Spend Plan Report Summary'!$B11,'Strategy 5 Quarterly Spend'!$B$8:$M$18,6,0)+VLOOKUP('Spend Plan Report Summary'!$B11,'Strategy 6 Quarterly Spend'!$B$8:$M$18,6,0) -> 0 | N11: =VLOOKUP($B11,'Strategy 1 Quarterly Spend Plan'!$B$8:$M$18,7,0)+VLOOKUP($B11,'Strategy 2 Quarterly Spend'!$B$8:$M$18,7,0)+VLOOKUP('Spend Plan Report Summary'!$B11,'Strategy 3 Quarterly Spend'!$B$8:$M$18,7,0)+VLOOKUP('Spend Plan Report Summary'!$B11,'Strategy 4 Quarterly Spend'!$B$8:$M$18,7,0)+VLOOKUP('Spend Plan Report Summary'!$B11,'Strategy 5 Quarterly Spend'!$B$8:$M$18,7,0)+VLOOKUP('Spend Plan Report Summary'!$B11,'Strategy 6 Quarterly Spend'!$B$8:$M$18,7,0) -> 0 | O11: =C11-SUM(D11:N11) -> 0 | P11: =(D11/C11)-1 -> #DIV/0!
B12: Out of State Travel | C12: =SUM('Spend Plan'!L23) -> 0 | D12: =VLOOKUP($B12,'Strategy 1 Quarterly Spend Plan'!$B$8:$M$18,3,0)+VLOOKUP($B12,'Strategy 2 Quarterly Spend'!$B$8:$M$18,3,0)+VLOOKUP('Spend Plan Report Summary'!$B12,'Strategy 3 Quarterly Spend'!$B$8:$M$18,3,0)+VLOOKUP('Spend Plan Report Summary'!$B12,'Strategy 4 Quarterly Spend'!$B$8:$M$18,3,0)+VLOOKUP('Spend Plan Report Summary'!$B12,'Strategy 5 Quarterly Spend'!$B$8:$M$18,3,0)+VLOOKUP('Spend Plan Report Summary'!$B12,'Strategy 6 Quarterly Spend'!$B$8:$M$18,3,0) -> 0 | E12: =VLOOKUP($B12,'Strategy 1 Quarterly Spend Plan'!$B$8:$M$18,4,0)+VLOOKUP($B12,'Strategy 2 Quarterly Spend'!$B$8:$M$18,4,0)+VLOOKUP('Spend Plan Report Summary'!$B12,'Strategy 3 Quarterly Spend'!$B$8:$M$18,4,0)+VLOOKUP('Spend Plan Report Summary'!$B12,'Strategy 4 Quarterly Spend'!$B$8:$M$18,4,0)+VLOOKUP('Spend Plan Report Summary'!$B12,'Strategy 5 Quarterly Spend'!$B$8:$M$18,4,0)+VLOOKUP('Spend Plan Report Summary'!$B12,'Strategy 6 Quarterly Spend'!$B$8:$M$18,4,0) -> 0 | F12: =VLOOKUP($B12,'Strategy 1 Quarterly Spend Plan'!$B$8:$M$18,5,0)+VLOOKUP($B12,'Strategy 2 Quarterly Spend'!$B$8:$M$18,5,0)+VLOOKUP('Spend Plan Report Summary'!$B12,'Strategy 3 Quarterly Spend'!$B$8:$M$18,5,0)+VLOOKUP('Spend Plan Report Summary'!$B12,'Strategy 4 Quarterly Spend'!$B$8:$M$18,5,0)+VLOOKUP('Spend Plan Report Summary'!$B12,'Strategy 5 Quarterly Spend'!$B$8:$M$18,5,0)+VLOOKUP('Spend Plan Report Summary'!$B12,'Strategy 6 Quarterly Spend'!$B$8:$M$18,5,0) -> 0 | G12: =VLOOKUP($B12,'Strategy 1 Quarterly Spend Plan'!$B$8:$M$18,6,0)+VLOOKUP($B12,'Strategy 2 Quarterly Spend'!$B$8:$M$18,6,0)+VLOOKUP('Spend Plan Report Summary'!$B12,'Strategy 3 Quarterly Spend'!$B$8:$M$18,6,0)+VLOOKUP('Spend Plan Report Summary'!$B12,'Strategy 4 Quarterly Spend'!$B$8:$M$18,6,0)+VLOOKUP('Spend Plan Report Summary'!$B12,'Strategy 5 Quarterly Spend'!$B$8:$M$18,6,0)+VLOOKUP('Spend Plan Report Summary'!$B12,'Strategy 6 Quarterly Spend'!$B$8:$M$18,6,0) -> 0 | H12: =VLOOKUP($B12,'Strategy 1 Quarterly Spend Plan'!$B$8:$M$18,5,0)+VLOOKUP($B12,'Strategy 2 Quarterly Spend'!$B$8:$M$18,5,0)+VLOOKUP('Spend Plan Report Summary'!$B12,'Strategy 3 Quarterly Spend'!$B$8:$M$18,5,0)+VLOOKUP('Spend Plan Report Summary'!$B12,'Strategy 4 Quarterly Spend'!$B$8:$M$18,5,0)+VLOOKUP('Spend Plan Report Summary'!$B12,'Strategy 5 Quarterly Spend'!$B$8:$M$18,5,0)+VLOOKUP('Spend Plan Report Summary'!$B12,'Strategy 6 Quarterly Spend'!$B$8:$M$18,5,0) -> 0 | I12: =VLOOKUP($B12,'Strategy 1 Quarterly Spend Plan'!$B$8:$M$18,6,0)+VLOOKUP($B12,'Strategy 2 Quarterly Spend'!$B$8:$M$18,6,0)+VLOOKUP('Spend Plan Report Summary'!$B12,'Strategy 3 Quarterly Spend'!$B$8:$M$18,6,0)+VLOOKUP('Spend Plan Report Summary'!$B12,'Strategy 4 Quarterly Spend'!$B$8:$M$18,6,0)+VLOOKUP('Spend Plan Report Summary'!$B12,'Strategy 5 Quarterly Spend'!$B$8:$M$18,6,0)+VLOOKUP('Spend Plan Report Summary'!$B12,'Strategy 6 Quarterly Spend'!$B$8:$M$18,6,0) -> 0 | J12: =VLOOKUP($B12,'Strategy 1 Quarterly Spend Plan'!$B$8:$M$18,5,0)+VLOOKUP($B12,'Strategy 2 Quarterly Spend'!$B$8:$M$18,5,0)+VLOOKUP('Spend Plan Report Summary'!$B12,'Strategy 3 Quarterly Spend'!$B$8:$M$18,5,0)+VLOOKUP('Spend Plan Report Summary'!$B12,'Strategy 4 Quarterly Spend'!$B$8:$M$18,5,0)+VLOOKUP('Spend Plan Report Summary'!$B12,'Strategy 5 Quarterly Spend'!$B$8:$M$18,5,0)+VLOOKUP('Spend Plan Report Summary'!$B12,'Strategy 6 Quarterly Spend'!$B$8:$M$18,5,0) -> 0 | K12: =VLOOKUP($B12,'Strategy 1 Quarterly Spend Plan'!$B$8:$M$18,6,0)+VLOOKUP($B12,'Strategy 2 Quarterly Spend'!$B$8:$M$18,6,0)+VLOOKUP('Spend Plan Report Summary'!$B12,'Strategy 3 Quarterly Spend'!$B$8:$M$18,6,0)+VLOOKUP('Spend Plan Report Summary'!$B12,'Strategy 4 Quarterly Spend'!$B$8:$M$18,6,0)+VLOOKUP('Spend Plan Report Summary'!$B12,'Strategy 5 Quarterly Spend'!$B$8:$M$18,6,0)+VLOOKUP('Spend Plan Report Summary'!$B12,'Strategy 6 Quarterly Spend'!$B$8:$M$18,6,0) -> 0 | L12: =VLOOKUP($B12,'Strategy 1 Quarterly Spend Plan'!$B$8:$M$18,5,0)+VLOOKUP($B12,'Strategy 2 Quarterly Spend'!$B$8:$M$18,5,0)+VLOOKUP('Spend Plan Report Summary'!$B12,'Strategy 3 Quarterly Spend'!$B$8:$M$18,5,0)+VLOOKUP('Spend Plan Report Summary'!$B12,'Strategy 4 Quarterly Spend'!$B$8:$M$18,5,0)+VLOOKUP('Spend Plan Report Summary'!$B12,'Strategy 5 Quarterly Spend'!$B$8:$M$18,5,0)+VLOOKUP('Spend Plan Report Summary'!$B12,'Strategy 6 Quarterly Spend'!$B$8:$M$18,5,0) -> 0 | M12: =VLOOKUP($B12,'Strategy 1 Quarterly Spend Plan'!$B$8:$M$18,6,0)+VLOOKUP($B12,'Strategy 2 Quarterly Spend'!$B$8:$M$18,6,0)+VLOOKUP('Spend Plan Report Summary'!$B12,'Strategy 3 Quarterly Spend'!$B$8:$M$18,6,0)+VLOOKUP('Spend Plan Report Summary'!$B12,'Strategy 4 Quarterly Spend'!$B$8:$M$18,6,0)+VLOOKUP('Spend Plan Report Summary'!$B12,'Strategy 5 Quarterly Spend'!$B$8:$M$18,6,0)+VLOOKUP('Spend Plan Report Summary'!$B12,'Strategy 6 Quarterly Spend'!$B$8:$M$18,6,0) -> 0 | N12: =VLOOKUP($B12,'Strategy 1 Quarterly Spend Plan'!$B$8:$M$18,7,0)+VLOOKUP($B12,'Strategy 2 Quarterly Spend'!$B$8:$M$18,7,0)+VLOOKUP('Spend Plan Report Summary'!$B12,'Strategy 3 Quarterly Spend'!$B$8:$M$18,7,0)+VLOOKUP('Spend Plan Report Summary'!$B12,'Strategy 4 Quarterly Spend'!$B$8:$M$18,7,0)+VLOOKUP('Spend Plan Report Summary'!$B12,'Strategy 5 Quarterly Spend'!$B$8:$M$18,7,0)+VLOOKUP('Spend Plan Report Summary'!$B12,'Strategy 6 Quarterly Spend'!$B$8:$M$18,7,0) -> 0 | O12: =C12-SUM(D12:N12) -> 0 | P12: =(D12/C12)-1 -> #DIV/0!
B13: Equipment | C13: =SUM('Spend Plan'!L27) -> 0 | D13: =VLOOKUP($B13,'Strategy 1 Quarterly Spend Plan'!$B$8:$M$18,3,0)+VLOOKUP($B13,'Strategy 2 Quarterly Spend'!$B$8:$M$18,3,0)+VLOOKUP('Spend Plan Report Summary'!$B13,'Strategy 3 Quarterly Spend'!$B$8:$M$18,3,0)+VLOOKUP('Spend Plan Report Summary'!$B13,'Strategy 4 Quarterly Spend'!$B$8:$M$18,3,0)+VLOOKUP('Spend Plan Report Summary'!$B13,'Strategy 5 Quarterly Spend'!$B$8:$M$18,3,0)+VLOOKUP('Spend Plan Report Summary'!$B13,'Strategy 6 Quarterly Spend'!$B$8:$M$18,3,0) -> 0 | E13: =VLOOKUP($B13,'Strategy 1 Quarterly Spend Plan'!$B$8:$M$18,4,0)+VLOOKUP($B13,'Strategy 2 Quarterly Spend'!$B$8:$M$18,4,0)+VLOOKUP('Spend Plan Report Summary'!$B13,'Strategy 3 Quarterly Spend'!$B$8:$M$18,4,0)+VLOOKUP('Spend Plan Report Summary'!$B13,'Strategy 4 Quarterly Spend'!$B$8:$M$18,4,0)+VLOOKUP('Spend Plan Report Summary'!$B13,'Strategy 5 Quarterly Spend'!$B$8:$M$18,4,0)+VLOOKUP('Spend Plan Report Summary'!$B13,'Strategy 6 Quarterly Spend'!$B$8:$M$18,4,0) -> 0 | F13: =VLOOKUP($B13,'Strategy 1 Quarterly Spend Plan'!$B$8:$M$18,5,0)+VLOOKUP($B13,'Strategy 2 Quarterly Spend'!$B$8:$M$18,5,0)+VLOOKUP('Spend Plan Report Summary'!$B13,'Strategy 3 Quarterly Spend'!$B$8:$M$18,5,0)+VLOOKUP('Spend Plan Report Summary'!$B13,'Strategy 4 Quarterly Spend'!$B$8:$M$18,5,0)+VLOOKUP('Spend Plan Report Summary'!$B13,'Strategy 5 Quarterly Spend'!$B$8:$M$18,5,0)+VLOOKUP('Spend Plan Report Summary'!$B13,'Strategy 6 Quarterly Spend'!$B$8:$M$18,5,0) -> 0 | G13: =VLOOKUP($B13,'Strategy 1 Quarterly Spend Plan'!$B$8:$M$18,6,0)+VLOOKUP($B13,'Strategy 2 Quarterly Spend'!$B$8:$M$18,6,0)+VLOOKUP('Spend Plan Report Summary'!$B13,'Strategy 3 Quarterly Spend'!$B$8:$M$18,6,0)+VLOOKUP('Spend Plan Report Summary'!$B13,'Strategy 4 Quarterly Spend'!$B$8:$M$18,6,0)+VLOOKUP('Spend Plan Report Summary'!$B13,'Strategy 5 Quarterly Spend'!$B$8:$M$18,6,0)+VLOOKUP('Spend Plan Report Summary'!$B13,'Strategy 6 Quarterly Spend'!$B$8:$M$18,6,0) -> 0 | H13: =VLOOKUP($B13,'Strategy 1 Quarterly Spend Plan'!$B$8:$M$18,5,0)+VLOOKUP($B13,'Strategy 2 Quarterly Spend'!$B$8:$M$18,5,0)+VLOOKUP('Spend Plan Report Summary'!$B13,'Strategy 3 Quarterly Spend'!$B$8:$M$18,5,0)+VLOOKUP('Spend Plan Report Summary'!$B13,'Strategy 4 Quarterly Spend'!$B$8:$M$18,5,0)+VLOOKUP('Spend Plan Report Summary'!$B13,'Strategy 5 Quarterly Spend'!$B$8:$M$18,5,0)+VLOOKUP('Spend Plan Report Summary'!$B13,'Strategy 6 Quarterly Spend'!$B$8:$M$18,5,0) -> 0 | I13: =VLOOKUP($B13,'Strategy 1 Quarterly Spend Plan'!$B$8:$M$18,6,0)+VLOOKUP($B13,'Strategy 2 Quarterly Spend'!$B$8:$M$18,6,0)+VLOOKUP('Spend Plan Report Summary'!$B13,'Strategy 3 Quarterly Spend'!$B$8:$M$18,6,0)+VLOOKUP('Spend Plan Report Summary'!$B13,'Strategy 4 Quarterly Spend'!$B$8:$M$18,6,0)+VLOOKUP('Spend Plan Report Summary'!$B13,'Strategy 5 Quarterly Spend'!$B$8:$M$18,6,0)+VLOOKUP('Spend Plan Report Summary'!$B13,'Strategy 6 Quarterly Spend'!$B$8:$M$18,6,0) -> 0 | J13: =VLOOKUP($B13,'Strategy 1 Quarterly Spend Plan'!$B$8:$M$18,5,0)+VLOOKUP($B13,'Strategy 2 Quarterly Spend'!$B$8:$M$18,5,0)+VLOOKUP('Spend Plan Report Summary'!$B13,'Strategy 3 Quarterly Spend'!$B$8:$M$18,5,0)+VLOOKUP('Spend Plan Report Summary'!$B13,'Strategy 4 Quarterly Spend'!$B$8:$M$18,5,0)+VLOOKUP('Spend Plan Report Summary'!$B13,'Strategy 5 Quarterly Spend'!$B$8:$M$18,5,0)+VLOOKUP('Spend Plan Report Summary'!$B13,'Strategy 6 Quarterly Spend'!$B$8:$M$18,5,0) -> 0 | K13: =VLOOKUP($B13,'Strategy 1 Quarterly Spend Plan'!$B$8:$M$18,6,0)+VLOOKUP($B13,'Strategy 2 Quarterly Spend'!$B$8:$M$18,6,0)+VLOOKUP('Spend Plan Report Summary'!$B13,'Strategy 3 Quarterly Spend'!$B$8:$M$18,6,0)+VLOOKUP('Spend Plan Report Summary'!$B13,'Strategy 4 Quarterly Spend'!$B$8:$M$18,6,0)+VLOOKUP('Spend Plan Report Summary'!$B13,'Strategy 5 Quarterly Spend'!$B$8:$M$18,6,0)+VLOOKUP('Spend Plan Report Summary'!$B13,'Strategy 6 Quarterly Spend'!$B$8:$M$18,6,0) -> 0 | L13: =VLOOKUP($B13,'Strategy 1 Quarterly Spend Plan'!$B$8:$M$18,5,0)+VLOOKUP($B13,'Strategy 2 Quarterly Spend'!$B$8:$M$18,5,0)+VLOOKUP('Spend Plan Report Summary'!$B13,'Strategy 3 Quarterly Spend'!$B$8:$M$18,5,0)+VLOOKUP('Spend Plan Report Summary'!$B13,'Strategy 4 Quarterly Spend'!$B$8:$M$18,5,0)+VLOOKUP('Spend Plan Report Summary'!$B13,'Strategy 5 Quarterly Spend'!$B$8:$M$18,5,0)+VLOOKUP('Spend Plan Report Summary'!$B13,'Strategy 6 Quarterly Spend'!$B$8:$M$18,5,0) -> 0 | M13: =VLOOKUP($B13,'Strategy 1 Quarterly Spend Plan'!$B$8:$M$18,6,0)+VLOOKUP($B13,'Strategy 2 Quarterly Spend'!$B$8:$M$18,6,0)+VLOOKUP('Spend Plan Report Summary'!$B13,'Strategy 3 Quarterly Spend'!$B$8:$M$18,6,0)+VLOOKUP('Spend Plan Report Summary'!$B13,'Strategy 4 Quarterly Spend'!$B$8:$M$18,6,0)+VLOOKUP('Spend Plan Report Summary'!$B13,'Strategy 5 Quarterly Spend'!$B$8:$M$18,6,0)+VLOOKUP('Spend Plan Report Summary'!$B13,'Strategy 6 Quarterly Spend'!$B$8:$M$18,6,0) -> 0 | N13: =VLOOKUP($B13,'Strategy 1 Quarterly Spend Plan'!$B$8:$M$18,7,0)+VLOOKUP($B13,'Strategy 2 Quarterly Spend'!$B$8:$M$18,7,0)+VLOOKUP('Spend Plan Report Summary'!$B13,'Strategy 3 Quarterly Spend'!$B$8:$M$18,7,0)+VLOOKUP('Spend Plan Report Summary'!$B13,'Strategy 4 Quarterly Spend'!$B$8:$M$18,7,0)+VLOOKUP('Spend Plan Report Summary'!$B13,'Strategy 5 Quarterly Spend'!$B$8:$M$18,7,0)+VLOOKUP('Spend Plan Report Summary'!$B13,'Strategy 6 Quarterly Spend'!$B$8:$M$18,7,0) -> 0 | O13: =C13-SUM(D13:N13) -> 0 | P13: =(D13/C13)-1 -> #DIV/0!
B14: Subcontracts | C14: =SUM('Spend Plan'!L42) -> 0 | D14: =VLOOKUP($B14,'Strategy 1 Quarterly Spend Plan'!$B$8:$M$18,3,0)+VLOOKUP($B14,'Strategy 2 Quarterly Spend'!$B$8:$M$18,3,0)+VLOOKUP('Spend Plan Report Summary'!$B14,'Strategy 3 Quarterly Spend'!$B$8:$M$18,3,0)+VLOOKUP('Spend Plan Report Summary'!$B14,'Strategy 4 Quarterly Spend'!$B$8:$M$18,3,0)+VLOOKUP('Spend Plan Report Summary'!$B14,'Strategy 5 Quarterly Spend'!$B$8:$M$18,3,0)+VLOOKUP('Spend Plan Report Summary'!$B14,'Strategy 6 Quarterly Spend'!$B$8:$M$18,3,0) -> 0 | E14: =VLOOKUP($B14,'Strategy 1 Quarterly Spend Plan'!$B$8:$M$18,4,0)+VLOOKUP($B14,'Strategy 2 Quarterly Spend'!$B$8:$M$18,4,0)+VLOOKUP('Spend Plan Report Summary'!$B14,'Strategy 3 Quarterly Spend'!$B$8:$M$18,4,0)+VLOOKUP('Spend Plan Report Summary'!$B14,'Strategy 4 Quarterly Spend'!$B$8:$M$18,4,0)+VLOOKUP('Spend Plan Report Summary'!$B14,'Strategy 5 Quarterly Spend'!$B$8:$M$18,4,0)+VLOOKUP('Spend Plan Report Summary'!$B14,'Strategy 6 Quarterly Spend'!$B$8:$M$18,4,0) -> 0 | F14: =VLOOKUP($B14,'Strategy 1 Quarterly Spend Plan'!$B$8:$M$18,5,0)+VLOOKUP($B14,'Strategy 2 Quarterly Spend'!$B$8:$M$18,5,0)+VLOOKUP('Spend Plan Report Summary'!$B14,'Strategy 3 Quarterly Spend'!$B$8:$M$18,5,0)+VLOOKUP('Spend Plan Report Summary'!$B14,'Strategy 4 Quarterly Spend'!$B$8:$M$18,5,0)+VLOOKUP('Spend Plan Report Summary'!$B14,'Strategy 5 Quarterly Spend'!$B$8:$M$18,5,0)+VLOOKUP('Spend Plan Report Summary'!$B14,'Strategy 6 Quarterly Spend'!$B$8:$M$18,5,0) -> 0 | G14: =VLOOKUP($B14,'Strategy 1 Quarterly Spend Plan'!$B$8:$M$18,6,0)+VLOOKUP($B14,'Strategy 2 Quarterly Spend'!$B$8:$M$18,6,0)+VLOOKUP('Spend Plan Report Summary'!$B14,'Strategy 3 Quarterly Spend'!$B$8:$M$18,6,0)+VLOOKUP('Spend Plan Report Summary'!$B14,'Strategy 4 Quarterly Spend'!$B$8:$M$18,6,0)+VLOOKUP('Spend Plan Report Summary'!$B14,'Strategy 5 Quarterly Spend'!$B$8:$M$18,6,0)+VLOOKUP('Spend Plan Report Summary'!$B14,'Strategy 6 Quarterly Spend'!$B$8:$M$18,6,0) -> 0 | H14: =VLOOKUP($B14,'Strategy 1 Quarterly Spend Plan'!$B$8:$M$18,5,0)+VLOOKUP($B14,'Strategy 2 Quarterly Spend'!$B$8:$M$18,5,0)+VLOOKUP('Spend Plan Report Summary'!$B14,'Strategy 3 Quarterly Spend'!$B$8:$M$18,5,0)+VLOOKUP('Spend Plan Report Summary'!$B14,'Strategy 4 Quarterly Spend'!$B$8:$M$18,5,0)+VLOOKUP('Spend Plan Report Summary'!$B14,'Strategy 5 Quarterly Spend'!$B$8:$M$18,5,0)+VLOOKUP('Spend Plan Report Summary'!$B14,'Strategy 6 Quarterly Spend'!$B$8:$M$18,5,0) -> 0 | I14: =VLOOKUP($B14,'Strategy 1 Quarterly Spend Plan'!$B$8:$M$18,6,0)+VLOOKUP($B14,'Strategy 2 Quarterly Spend'!$B$8:$M$18,6,0)+VLOOKUP('Spend Plan Report Summary'!$B14,'Strategy 3 Quarterly Spend'!$B$8:$M$18,6,0)+VLOOKUP('Spend Plan Report Summary'!$B14,'Strategy 4 Quarterly Spend'!$B$8:$M$18,6,0)+VLOOKUP('Spend Plan Report Summary'!$B14,'Strategy 5 Quarterly Spend'!$B$8:$M$18,6,0)+VLOOKUP('Spend Plan Report Summary'!$B14,'Strategy 6 Quarterly Spend'!$B$8:$M$18,6,0) -> 0 | J14: =VLOOKUP($B14,'Strategy 1 Quarterly Spend Plan'!$B$8:$M$18,5,0)+VLOOKUP($B14,'Strategy 2 Quarterly Spend'!$B$8:$M$18,5,0)+VLOOKUP('Spend Plan Report Summary'!$B14,'Strategy 3 Quarterly Spend'!$B$8:$M$18,5,0)+VLOOKUP('Spend Plan Report Summary'!$B14,'Strategy 4 Quarterly Spend'!$B$8:$M$18,5,0)+VLOOKUP('Spend Plan Report Summary'!$B14,'Strategy 5 Quarterly Spend'!$B$8:$M$18,5,0)+VLOOKUP('Spend Plan Report Summary'!$B14,'Strategy 6 Quarterly Spend'!$B$8:$M$18,5,0) -> 0 | K14: =VLOOKUP($B14,'Strategy 1 Quarterly Spend Plan'!$B$8:$M$18,6,0)+VLOOKUP($B14,'Strategy 2 Quarterly Spend'!$B$8:$M$18,6,0)+VLOOKUP('Spend Plan Report Summary'!$B14,'Strategy 3 Quarterly Spend'!$B$8:$M$18,6,0)+VLOOKUP('Spend Plan Report Summary'!$B14,'Strategy 4 Quarterly Spend'!$B$8:$M$18,6,0)+VLOOKUP('Spend Plan Report Summary'!$B14,'Strategy 5 Quarterly Spend'!$B$8:$M$18,6,0)+VLOOKUP('Spend Plan Report Summary'!$B14,'Strategy 6 Quarterly Spend'!$B$8:$M$18,6,0) -> 0 | L14: =VLOOKUP($B14,'Strategy 1 Quarterly Spend Plan'!$B$8:$M$18,5,0)+VLOOKUP($B14,'Strategy 2 Quarterly Spend'!$B$8:$M$18,5,0)+VLOOKUP('Spend Plan Report Summary'!$B14,'Strategy 3 Quarterly Spend'!$B$8:$M$18,5,0)+VLOOKUP('Spend Plan Report Summary'!$B14,'Strategy 4 Quarterly Spend'!$B$8:$M$18,5,0)+VLOOKUP('Spend Plan Report Summary'!$B14,'Strategy 5 Quarterly Spend'!$B$8:$M$18,5,0)+VLOOKUP('Spend Plan Report Summary'!$B14,'Strategy 6 Quarterly Spend'!$B$8:$M$18,5,0) -> 0 | M14: =VLOOKUP($B14,'Strategy 1 Quarterly Spend Plan'!$B$8:$M$18,6,0)+VLOOKUP($B14,'Strategy 2 Quarterly Spend'!$B$8:$M$18,6,0)+VLOOKUP('Spend Plan Report Summary'!$B14,'Strategy 3 Quarterly Spend'!$B$8:$M$18,6,0)+VLOOKUP('Spend Plan Report Summary'!$B14,'Strategy 4 Quarterly Spend'!$B$8:$M$18,6,0)+VLOOKUP('Spend Plan Report Summary'!$B14,'Strategy 5 Quarterly Spend'!$B$8:$M$18,6,0)+VLOOKUP('Spend Plan Report Summary'!$B14,'Strategy 6 Quarterly Spend'!$B$8:$M$18,6,0) -> 0 | N14: =VLOOKUP($B14,'Strategy 1 Quarterly Spend Plan'!$B$8:$M$18,7,0)+VLOOKUP($B14,'Strategy 2 Quarterly Spend'!$B$8:$M$18,7,0)+VLOOKUP('Spend Plan Report Summary'!$B14,'Strategy 3 Quarterly Spend'!$B$8:$M$18,7,0)+VLOOKUP('Spend Plan Report Summary'!$B14,'Strategy 4 Quarterly Spend'!$B$8:$M$18,7,0)+VLOOKUP('Spend Plan Report Summary'!$B14,'Strategy 5 Quarterly Spend'!$B$8:$M$18,7,0)+VLOOKUP('Spend Plan Report Summary'!$B14,'Strategy 6 Quarterly Spend'!$B$8:$M$18,7,0) -> 0 | O14: =C14-SUM(D14:N14) -> 0 | P14: =(D14/C14)-1 -> #DIV/0!
B15: Other costs | C15: =SUM('Spend Plan'!L30) -> 0 | D15: =VLOOKUP($B15,'Strategy 1 Quarterly Spend Plan'!$B$8:$M$18,3,0)+VLOOKUP($B15,'Strategy 2 Quarterly Spend'!$B$8:$M$18,3,0)+VLOOKUP('Spend Plan Report Summary'!$B15,'Strategy 3 Quarterly Spend'!$B$8:$M$18,3,0)+VLOOKUP('Spend Plan Report Summary'!$B15,'Strategy 4 Quarterly Spend'!$B$8:$M$18,3,0)+VLOOKUP('Spend Plan Report Summary'!$B15,'Strategy 5 Quarterly Spend'!$B$8:$M$18,3,0)+VLOOKUP('Spend Plan Report Summary'!$B15,'Strategy 6 Quarterly Spend'!$B$8:$M$18,3,0) -> 0 | E15: =VLOOKUP($B15,'Strategy 1 Quarterly Spend Plan'!$B$8:$M$18,4,0)+VLOOKUP($B15,'Strategy 2 Quarterly Spend'!$B$8:$M$18,4,0)+VLOOKUP('Spend Plan Report Summary'!$B15,'Strategy 3 Quarterly Spend'!$B$8:$M$18,4,0)+VLOOKUP('Spend Plan Report Summary'!$B15,'Strategy 4 Quarterly Spend'!$B$8:$M$18,4,0)+VLOOKUP('Spend Plan Report Summary'!$B15,'Strategy 5 Quarterly Spend'!$B$8:$M$18,4,0)+VLOOKUP('Spend Plan Report Summary'!$B15,'Strategy 6 Quarterly Spend'!$B$8:$M$18,4,0) -> 0 | F15: =VLOOKUP($B15,'Strategy 1 Quarterly Spend Plan'!$B$8:$M$18,5,0)+VLOOKUP($B15,'Strategy 2 Quarterly Spend'!$B$8:$M$18,5,0)+VLOOKUP('Spend Plan Report Summary'!$B15,'Strategy 3 Quarterly Spend'!$B$8:$M$18,5,0)+VLOOKUP('Spend Plan Report Summary'!$B15,'Strategy 4 Quarterly Spend'!$B$8:$M$18,5,0)+VLOOKUP('Spend Plan Report Summary'!$B15,'Strategy 5 Quarterly Spend'!$B$8:$M$18,5,0)+VLOOKUP('Spend Plan Report Summary'!$B15,'Strategy 6 Quarterly Spend'!$B$8:$M$18,5,0) -> 0 | G15: =VLOOKUP($B15,'Strategy 1 Quarterly Spend Plan'!$B$8:$M$18,6,0)+VLOOKUP($B15,'Strategy 2 Quarterly Spend'!$B$8:$M$18,6,0)+VLOOKUP('Spend Plan Report Summary'!$B15,'Strategy 3 Quarterly Spend'!$B$8:$M$18,6,0)+VLOOKUP('Spend Plan Report Summary'!$B15,'Strategy 4 Quarterly Spend'!$B$8:$M$18,6,0)+VLOOKUP('Spend Plan Report Summary'!$B15,'Strategy 5 Quarterly Spend'!$B$8:$M$18,6,0)+VLOOKUP('Spend Plan Report Summary'!$B15,'Strategy 6 Quarterly Spend'!$B$8:$M$18,6,0) -> 0 | H15: =VLOOKUP($B15,'Strategy 1 Quarterly Spend Plan'!$B$8:$M$18,5,0)+VLOOKUP($B15,'Strategy 2 Quarterly Spend'!$B$8:$M$18,5,0)+VLOOKUP('Spend Plan Report Summary'!$B15,'Strategy 3 Quarterly Spend'!$B$8:$M$18,5,0)+VLOOKUP('Spend Plan Report Summary'!$B15,'Strategy 4 Quarterly Spend'!$B$8:$M$18,5,0)+VLOOKUP('Spend Plan Report Summary'!$B15,'Strategy 5 Quarterly Spend'!$B$8:$M$18,5,0)+VLOOKUP('Spend Plan Report Summary'!$B15,'Strategy 6 Quarterly Spend'!$B$8:$M$18,5,0) -> 0 | I15: =VLOOKUP($B15,'Strategy 1 Quarterly Spend Plan'!$B$8:$M$18,6,0)+VLOOKUP($B15,'Strategy 2 Quarterly Spend'!$B$8:$M$18,6,0)+VLOOKUP('Spend Plan Report Summary'!$B15,'Strategy 3 Quarterly Spend'!$B$8:$M$18,6,0)+VLOOKUP('Spend Plan Report Summary'!$B15,'Strategy 4 Quarterly Spend'!$B$8:$M$18,6,0)+VLOOKUP('Spend Plan Report Summary'!$B15,'Strategy 5 Quarterly Spend'!$B$8:$M$18,6,0)+VLOOKUP('Spend Plan Report Summary'!$B15,'Strategy 6 Quarterly Spend'!$B$8:$M$18,6,0) -> 0 | J15: =VLOOKUP($B15,'Strategy 1 Quarterly Spend Plan'!$B$8:$M$18,5,0)+VLOOKUP($B15,'Strategy 2 Quarterly Spend'!$B$8:$M$18,5,0)+VLOOKUP('Spend Plan Report Summary'!$B15,'Strategy 3 Quarterly Spend'!$B$8:$M$18,5,0)+VLOOKUP('Spend Plan Report Summary'!$B15,'Strategy 4 Quarterly Spend'!$B$8:$M$18,5,0)+VLOOKUP('Spend Plan Report Summary'!$B15,'Strategy 5 Quarterly Spend'!$B$8:$M$18,5,0)+VLOOKUP('Spend Plan Report Summary'!$B15,'Strategy 6 Quarterly Spend'!$B$8:$M$18,5,0) -> 0 | K15: =VLOOKUP($B15,'Strategy 1 Quarterly Spend Plan'!$B$8:$M$18,6,0)+VLOOKUP($B15,'Strategy 2 Quarterly Spend'!$B$8:$M$18,6,0)+VLOOKUP('Spend Plan Report Summary'!$B15,'Strategy 3 Quarterly Spend'!$B$8:$M$18,6,0)+VLOOKUP('Spend Plan Report Summary'!$B15,'Strategy 4 Quarterly Spend'!$B$8:$M$18,6,0)+VLOOKUP('Spend Plan Report Summary'!$B15,'Strategy 5 Quarterly Spend'!$B$8:$M$18,6,0)+VLOOKUP('Spend Plan Report Summary'!$B15,'Strategy 6 Quarterly Spend'!$B$8:$M$18,6,0) -> 0 | L15: =VLOOKUP($B15,'Strategy 1 Quarterly Spend Plan'!$B$8:$M$18,5,0)+VLOOKUP($B15,'Strategy 2 Quarterly Spend'!$B$8:$M$18,5,0)+VLOOKUP('Spend Plan Report Summary'!$B15,'Strategy 3 Quarterly Spend'!$B$8:$M$18,5,0)+VLOOKUP('Spend Plan Report Summary'!$B15,'Strategy 4 Quarterly Spend'!$B$8:$M$18,5,0)+VLOOKUP('Spend Plan Report Summary'!$B15,'Strategy 5 Quarterly Spend'!$B$8:$M$18,5,0)+VLOOKUP('Spend Plan Report Summary'!$B15,'Strategy 6 Quarterly Spend'!$B$8:$M$18,5,0) -> 0 | M15: =VLOOKUP($B15,'Strategy 1 Quarterly Spend Plan'!$B$8:$M$18,6,0)+VLOOKUP($B15,'Strategy 2 Quarterly Spend'!$B$8:$M$18,6,0)+VLOOKUP('Spend Plan Report Summary'!$B15,'Strategy 3 Quarterly Spend'!$B$8:$M$18,6,0)+VLOOKUP('Spend Plan Report Summary'!$B15,'Strategy 4 Quarterly Spend'!$B$8:$M$18,6,0)+VLOOKUP('Spend Plan Report Summary'!$B15,'Strategy 5 Quarterly Spend'!$B$8:$M$18,6,0)+VLOOKUP('Spend Plan Report Summary'!$B15,'Strategy 6 Quarterly Spend'!$B$8:$M$18,6,0) -> 0 | N15: =VLOOKUP($B15,'Strategy 1 Quarterly Spend Plan'!$B$8:$M$18,7,0)+VLOOKUP($B15,'Strategy 2 Quarterly Spend'!$B$8:$M$18,7,0)+VLOOKUP('Spend Plan Report Summary'!$B15,'Strategy 3 Quarterly Spend'!$B$8:$M$18,7,0)+VLOOKUP('Spend Plan Report Summary'!$B15,'Strategy 4 Quarterly Spend'!$B$8:$M$18,7,0)+VLOOKUP('Spend Plan Report Summary'!$B15,'Strategy 5 Quarterly Spend'!$B$8:$M$18,7,0)+VLOOKUP('Spend Plan Report Summary'!$B15,'Strategy 6 Quarterly Spend'!$B$8:$M$18,7,0) -> 0 | O15: =C15-SUM(D15:N15) -> 0 | P15: =(D15/C15)-1 -> #DIV/0!
B17: Total Direct Costs | C17: =SUM(C8:C16) -> 0 | D17: =SUM(D8:D15) -> 0 | E17: =SUM(E8:E15) -> 0 | F17: =SUM(F8:F15) -> 0 | G17: =SUM(G8:G15) -> 0 | H17: =SUM(H8:H15) -> 0 | I17: =SUM(I8:I15) -> 0 | J17: =SUM(J8:J15) -> 0 | K17: =SUM(K8:K15) -> 0 | ... N17: =SUM(N8:N15) -> 0
B18: Total Indirect Costs | C18: =SUM('Spend Plan'!L45) -> 0 | D18: =VLOOKUP($B18,'Strategy 1 Quarterly Spend Plan'!$B$8:$M$18,3,0)+VLOOKUP($B18,'Strategy 2 Quarterly Spend'!$B$8:$M$18,3,0)+VLOOKUP('Spend Plan Report Summary'!$B18,'Strategy 3 Quarterly Spend'!$B$8:$M$18,3,0)+VLOOKUP('Spend Plan Report Summary'!$B18,'Strategy 4 Quarterly Spend'!$B$8:$M$18,3,0)+VLOOKUP('Spend Plan Report Summary'!$B18,'Strategy 5 Quarterly Spend'!$B$8:$M$18,3,0)+VLOOKUP('Spend Plan Report Summary'!$B18,'Strategy 6 Quarterly Spend'!$B$8:$M$18,3,0) -> 0 | E18: =VLOOKUP($B18,'Strategy 1 Quarterly Spend Plan'!$B$8:$M$18,4,0)+VLOOKUP($B18,'Strategy 2 Quarterly Spend'!$B$8:$M$18,4,0)+VLOOKUP('Spend Plan Report Summary'!$B18,'Strategy 3 Quarterly Spend'!$B$8:$M$18,4,0)+VLOOKUP('Spend Plan Report Summary'!$B18,'Strategy 4 Quarterly Spend'!$B$8:$M$18,4,0)+VLOOKUP('Spend Plan Report Summary'!$B18,'Strategy 5 Quarterly Spend'!$B$8:$M$18,4,0)+VLOOKUP('Spend Plan Report Summary'!$B18,'Strategy 6 Quarterly Spend'!$B$8:$M$18,4,0) -> 0 | F18: =VLOOKUP($B18,'Strategy 1 Quarterly Spend Plan'!$B$8:$M$18,5,0)+VLOOKUP($B18,'Strategy 2 Quarterly Spend'!$B$8:$M$18,5,0)+VLOOKUP('Spend Plan Report Summary'!$B18,'Strategy 3 Quarterly Spend'!$B$8:$M$18,5,0)+VLOOKUP('Spend Plan Report Summary'!$B18,'Strategy 4 Quarterly Spend'!$B$8:$M$18,5,0)+VLOOKUP('Spend Plan Report Summary'!$B18,'Strategy 5 Quarterly Spend'!$B$8:$M$18,5,0)+VLOOKUP('Spend Plan Report Summary'!$B18,'Strategy 6 Quarterly Spend'!$B$8:$M$18,5,0) -> 0 | G18: =VLOOKUP($B18,'Strategy 1 Quarterly Spend Plan'!$B$8:$M$18,6,0)+VLOOKUP($B18,'Strategy 2 Quarterly Spend'!$B$8:$M$18,6,0)+VLOOKUP('Spend Plan Report Summary'!$B18,'Strategy 3 Quarterly Spend'!$B$8:$M$18,6,0)+VLOOKUP('Spend Plan Report Summary'!$B18,'Strategy 4 Quarterly Spend'!$B$8:$M$18,6,0)+VLOOKUP('Spend Plan Report Summary'!$B18,'Strategy 5 Quarterly Spend'!$B$8:$M$18,6,0)+VLOOKUP('Spend Plan Report Summary'!$B18,'Strategy 6 Quarterly Spend'!$B$8:$M$18,6,0) -> 0 | H18: =VLOOKUP($B18,'Strategy 1 Quarterly Spend Plan'!$B$8:$M$18,5,0)+VLOOKUP($B18,'Strategy 2 Quarterly Spend'!$B$8:$M$18,5,0)+VLOOKUP('Spend Plan Report Summary'!$B18,'Strategy 3 Quarterly Spend'!$B$8:$M$18,5,0)+VLOOKUP('Spend Plan Report Summary'!$B18,'Strategy 4 Quarterly Spend'!$B$8:$M$18,5,0)+VLOOKUP('Spend Plan Report Summary'!$B18,'Strategy 5 Quarterly Spend'!$B$8:$M$18,5,0)+VLOOKUP('Spend Plan Report Summary'!$B18,'Strategy 6 Quarterly Spend'!$B$8:$M$18,5,0) -> 0 | I18: =VLOOKUP($B18,'Strategy 1 Quarterly Spend Plan'!$B$8:$M$18,6,0)+VLOOKUP($B18,'Strategy 2 Quarterly Spend'!$B$8:$M$18,6,0)+VLOOKUP('Spend Plan Report Summary'!$B18,'Strategy 3 Quarterly Spend'!$B$8:$M$18,6,0)+VLOOKUP('Spend Plan Report Summary'!$B18,'Strategy 4 Quarterly Spend'!$B$8:$M$18,6,0)+VLOOKUP('Spend Plan Report Summary'!$B18,'Strategy 5 Quarterly Spend'!$B$8:$M$18,6,0)+VLOOKUP('Spend Plan Report Summary'!$B18,'Strategy 6 Quarterly Spend'!$B$8:$M$18,6,0) -> 0 | J18: =VLOOKUP($B18,'Strategy 1 Quarterly Spend Plan'!$B$8:$M$18,5,0)+VLOOKUP($B18,'Strategy 2 Quarterly Spend'!$B$8:$M$18,5,0)+VLOOKUP('Spend Plan Report Summary'!$B18,'Strategy 3 Quarterly Spend'!$B$8:$M$18,5,0)+VLOOKUP('Spend Plan Report Summary'!$B18,'Strategy 4 Quarterly Spend'!$B$8:$M$18,5,0)+VLOOKUP('Spend Plan Report Summary'!$B18,'Strategy 5 Quarterly Spend'!$B$8:$M$18,5,0)+VLOOKUP('Spend Plan Report Summary'!$B18,'Strategy 6 Quarterly Spend'!$B$8:$M$18,5,0) -> 0 | K18: =VLOOKUP($B18,'Strategy 1 Quarterly Spend Plan'!$B$8:$M$18,6,0)+VLOOKUP($B18,'Strategy 2 Quarterly Spend'!$B$8:$M$18,6,0)+VLOOKUP('Spend Plan Report Summary'!$B18,'Strategy 3 Quarterly Spend'!$B$8:$M$18,6,0)+VLOOKUP('Spend Plan Report Summary'!$B18,'Strategy 4 Quarterly Spend'!$B$8:$M$18,6,0)+VLOOKUP('Spend Plan Report Summary'!$B18,'Strategy 5 Quarterly Spend'!$B$8:$M$18,6,0)+VLOOKUP('Spend Plan Report Summary'!$B18,'Strategy 6 Quarterly Spend'!$B$8:$M$18,6,0) -> 0 | L18: =VLOOKUP($B18,'Strategy 1 Quarterly Spend Plan'!$B$8:$M$18,5,0)+VLOOKUP($B18,'Strategy 2 Quarterly Spend'!$B$8:$M$18,5,0)+VLOOKUP('Spend Plan Report Summary'!$B18,'Strategy 3 Quarterly Spend'!$B$8:$M$18,5,0)+VLOOKUP('Spend Plan Report Summary'!$B18,'Strategy 4 Quarterly Spend'!$B$8:$M$18,5,0)+VLOOKUP('Spend Plan Report Summary'!$B18,'Strategy 5 Quarterly Spend'!$B$8:$M$18,5,0)+VLOOKUP('Spend Plan Report Summary'!$B18,'Strategy 6 Quarterly Spend'!$B$8:$M$18,5,0) -> 0 | M18: =VLOOKUP($B18,'Strategy 1 Quarterly Spend Plan'!$B$8:$M$18,6,0)+VLOOKUP($B18,'Strategy 2 Quarterly Spend'!$B$8:$M$18,6,0)+VLOOKUP('Spend Plan Report Summary'!$B18,'Strategy 3 Quarterly Spend'!$B$8:$M$18,6,0)+VLOOKUP('Spend Plan Report Summary'!$B18,'Strategy 4 Quarterly Spend'!$B$8:$M$18,6,0)+VLOOKUP('Spend Plan Report Summary'!$B18,'Strategy 5 Quarterly Spend'!$B$8:$M$18,6,0)+VLOOKUP('Spend Plan Report Summary'!$B18,'Strategy 6 Quarterly Spend'!$B$8:$M$18,6,0) -> 0 | N18: =VLOOKUP($B18,'Strategy 1 Quarterly Spend Plan'!$B$8:$M$18,7,0)+VLOOKUP($B18,'Strategy 2 Quarterly Spend'!$B$8:$M$18,7,0)+VLOOKUP('Spend Plan Report Summary'!$B18,'Strategy 3 Quarterly Spend'!$B$8:$M$18,7,0)+VLOOKUP('Spend Plan Report Summary'!$B18,'Strategy 4 Quarterly Spend'!$B$8:$M$18,7,0)+VLOOKUP('Spend Plan Report Summary'!$B18,'Strategy 5 Quarterly Spend'!$B$8:$M$18,7,0)+VLOOKUP('Spend Plan Report Summary'!$B18,'Strategy 6 Quarterly Spend'!$B$8:$M$18,7,0) -> 0 | O18: =C18-SUM(D18:N18) -> 0 | P18: =(D18/C18)-1 -> #DIV/0!
C20: Budget | D20: Expenditures | E20: Balance
B21: Totals | C21: =C17+C18 -> 0 | D21: =SUM(D17:N18) -> 0 | E21: =C21-D21 -> 0

Sheet Strategy 1 Quarterly Spend Plan
B1: County Name: | C1: =VLOOKUP(B1,'Spend Plan'!B5:L5,2,0) -> Siskiyou
B3: Strategy 1 | C3: Allocation
A4: =O1 -> 0 | C4: ='Spend Plan'!F49 -> 422237
B6: Strategy 1 Budget | D6: Year 1 Quarterly Expenditure Report | H6: Year 2 Quarterly Expenditure Report | L6: Year 3 Quarterly Expenditure Report | N6: Balance
B7: Budget Category | C7: Budgeted Amount | D7: 1st Quarter May 2020 - July 2020 | E7: 2nd Quarter August 2020 - October 2020 | F7: 3rd Quarter November 2020 - January 2021 | G7: 4th Quarter February 2021 - April 2021 | H7: 1st Quarter May 2021 - July 2021 | I7: 2nd Quarter August 2021 - October 2021 | J7: 3rd Quarter November 2021 - January 2022 | K7: 4th Quarter February 2022 - April 2022 | L7: 1st Quarter May 2022 - July 2022 | M7: Final Closeout | O7: % change
B8: Salary | C8: =SUM('Spend Plan'!F17)-'Spend Plan'!F16 -> 0 | N8: =C8-SUM(D8:M8) -> 0 | O8: =(D8/C8)-1 -> #DIV/0!
B9: Fringe | C9: ='Spend Plan'!F16 -> 0 | N9: =C9-SUM(D9:M9) -> 0
B10: Supplies | C10: ='Spend Plan'!F20 -> 0 | N10: =C10-SUM(D10:M10) -> 0 | O10: =(D10/C10)-1 -> #DIV/0!
B11: In State Travel | C11: ='Spend Plan'!F22 -> 0 | N11: =C11-SUM(D11:M11) -> 0 | O11: =(D11/C11)-1 -> #DIV/0!
B12: Out of State Travel | C12: ='Spend Plan'!F23 -> 0 | N12: =C12-SUM(D12:M12) -> 0 | O12: =(D12/C12)-1 -> #DIV/0!
B13: Equipment | C13: ='Spend Plan'!F27 -> 0 | N13: =C13-SUM(D13:M13) -> 0 | O13: =(D13/C13)-1 -> #DIV/0!
B14: Subcontracts | C14: ='Spend Plan'!F42 -> 0 | N14: =C14-SUM(D14:M14) -> 0 | O14: =(D14/C14)-1 -> #DIV/0!
B15: Other costs | C15: ='Spend Plan'!F30 -> 0 | N15: =C15-SUM(D15:M15) -> 0 | O15: =(D15/C15)-1 -> #DIV/0!
B17: Total Direct Costs | C17: =SUM(C8:C16) -> 0 | D17: =SUM(D8:D15) -> 0 | E17: =SUM(E8:E15) -> 0 | F17: =SUM(F8:F15) -> 0 | G17: =SUM(G8:G15) -> 0 | H17: =SUM(H8:H15) -> 0 | I17: =SUM(I8:I15) -> 0 | J17: =SUM(J8:J15) -> 0 | K17: =SUM(K8:K15) -> 0 | ... M17: =SUM(M8:M15) -> 0
B18: Total Indirect Costs | C18: ='Spend Plan'!F45 -> 0 | N18: =C18-SUM(D18:M18) -> 0 | O18: =(D18/C18)-1 -> #DIV/0!
C20: Budget | D20: Expenditures | E20: Balance
B21: Totals | C21: =C17+C18 -> 0 | D21: =SUM(D17:M18) -> 0 | E21: =C21-D21 -> 0

Sheet Strategy 2 Quarterly Spend
B1: County Name: | C1: =VLOOKUP(B1,'Spend Plan'!B5:L5,2,0) -> Siskiyou | O1: alpine
B3: Strategy 2 | C3: Allocation
A4: =O1 -> alpine | C4: ='Spend Plan'!G49 -> 0
B6: Strategy 2 Budget | D6: Year 1 Quarterly Expenditure Report | H6: Year 2 Quarterly Expenditure Report | L6: Year 3 Quarterly Expenditure Report | N6: Balance
B7: Budget Category | C7: Budgeted Amount | D7: 1st Quarter May 2020 - July 2020 | E7: 2nd Quarter August 2020 - October 2020 | F7: 3rd Quarter November 2020 - January 2021 | G7: 4th Quarter February 2021 - April 2021 | H7: 1st Quarter May 2021 - July 2021 | I7: 2nd Quarter August 2021 - October 2021 | J7: 3rd Quarter November 2021 - January 2022 | K7: 4th Quarter February 2022 - April 2022 | L7: 1st Quarter May 2022 - July 2022 | M7: Final Closeout | O7: % change
B8: Salary | C8: =SUM('Spend Plan'!G17)-'Spend Plan'!G16 -> 0 | N8: =C8-SUM(D8:M8) -> 0 | O8: =(D8/C8)-1 -> #DIV/0!
B9: Fringe | C9: ='Spend Plan'!G16 -> 0 | N9: =C9-SUM(D9:M9) -> 0
B10: Supplies | C10: ='Spend Plan'!G20 -> 0 | N10: =C10-SUM(D10:M10) -> 0 | O10: =(D10/C10)-1 -> #DIV/0!
B11: In State Travel | C11: ='Spend Plan'!G22 -> 0 | N11: =C11-SUM(D11:M11) -> 0 | O11: =(D11/C11)-1 -> #DIV/0!
B12: Out of State Travel | C12: ='Spend Plan'!G23 -> 0 | N12: =C12-SUM(D12:M12) -> 0 | O12: =(D12/C12)-1 -> #DIV/0!
B13: Equipment | C13: ='Spend Plan'!G27 -> 0 | N13: =C13-SUM(D13:M13) -> 0 | O13: =(D13/C13)-1 -> #DIV/0!
B14: Subcontracts | C14: ='Spend Plan'!G42 -> 0 | N14: =C14-SUM(D14:M14) -> 0 | O14: =(D14/C14)-1 -> #DIV/0!
B15: Other costs | C15: ='Spend Plan'!G30 -> 0 | N15: =C15-SUM(D15:M15) -> 0 | O15: =(D15/C15)-1 -> #DIV/0!
B17: Total Direct Costs | C17: =SUM(C8:C16) -> 0 | D17: =SUM(D8:D15) -> 0 | E17: =SUM(E8:E15) -> 0 | F17: =SUM(F8:F15) -> 0 | G17: =SUM(G8:G15) -> 0 | H17: =SUM(H8:H15) -> 0 | I17: =SUM(I8:I15) -> 0 | J17: =SUM(J8:J15) -> 0 | K17: =SUM(K8:K15) -> 0 | ... M17: =SUM(M8:M15) -> 0
B18: Total Indirect Costs | C18: ='Spend Plan'!G45 -> 0 | N18: =C18-SUM(D18:M18) -> 0 | O18: =(D18/C18)-1 -> #DIV/0!
C20: Budget | D20: Expenditures | E20: Balance
B21: Totals | C21: =C17+C18 -> 0 | D21: =SUM(D17:M18) -> 0 | E21: =C21-D21 -> 0

Sheet Strategy 3 Quarterly Spend
B1: County Name: | C1: =VLOOKUP(B1,'Spend Plan'!B5:L5,2,0) -> Siskiyou | O1: alpine
B3: Strategy 3 | C3: Allocation
A4: =O1 -> alpine | C4: ='Spend Plan'!H49 -> 0
B6: Strategy 3 Budget | D6: Year 1 Quarterly Expenditure Report | H6: Year 2 Quarterly Expenditure Report | L6: Year 3 Quarterly Expenditure Report | N6: Balance
B7: Budget Category | C7: Budgeted Amount | D7: 1st Quarter May 2020 - July 2020 | E7: 2nd Quarter August 2020 - October 2020 | F7: 3rd Quarter November 2020 - January 2021 | G7: 4th Quarter February 2021 - April 2021 | H7: 1st Quarter May 2021 - July 2021 | I7: 2nd Quarter August 2021 - October 2021 | J7: 3rd Quarter November 2021 - January 2022 | K7: 4th Quarter February 2022 - April 2022 | L7: 1st Quarter May 2022 - July 2022 | M7: Final Closeout | O7: % change
B8: Salary | C8: =SUM('Spend Plan'!H17)-'Spend Plan'!H16 -> 0 | N8: =C8-SUM(D8:M8) -> 0 | O8: =(D8/C8)-1 -> #DIV/0!
B9: Fringe | C9: ='Spend Plan'!H16 -> 0 | N9: =C9-SUM(D9:M9) -> 0
B10: Supplies | C10: ='Spend Plan'!H20 -> 0 | N10: =C10-SUM(D10:M10) -> 0 | O10: =(D10/C10)-1 -> #DIV/0!
B11: In State Travel | C11: ='Spend Plan'!H22 -> 0 | N11: =C11-SUM(D11:M11) -> 0 | O11: =(D11/C11)-1 -> #DIV/0!
B12: Out of State Travel | C12: ='Spend Plan'!H23 -> 0 | N12: =C12-SUM(D12:M12) -> 0 | O12: =(D12/C12)-1 -> #DIV/0!
B13: Equipment | C13: ='Spend Plan'!H27 -> 0 | N13: =C13-SUM(D13:M13) -> 0 | O13: =(D13/C13)-1 -> #DIV/0!
B14: Subcontracts | C14: ='Spend Plan'!H42 -> 0 | N14: =C14-SUM(D14:M14) -> 0 | O14: =(D14/C14)-1 -> #DIV/0!
B15: Other costs | C15: ='Spend Plan'!H30 -> 0 | N15: =C15-SUM(D15:M15) -> 0 | O15: =(D15/C15)-1 -> #DIV/0!
B17: Total Direct Costs | C17: =SUM(C8:C16) -> 0 | D17: =SUM(D8:D15) -> 0 | E17: =SUM(E8:E15) -> 0 | F17: =SUM(F8:F15) -> 0 | G17: =SUM(G8:G15) -> 0 | H17: =SUM(H8:H15) -> 0 | I17: =SUM(I8:I15) -> 0 | J17: =SUM(J8:J15) -> 0 | K17: =SUM(K8:K15) -> 0 | ... M17: =SUM(M8:M15) -> 0
B18: Total Indirect Costs | C18: ='Spend Plan'!H45 -> 0 | N18: =C18-SUM(D18:M18) -> 0 | O18: =(D18/C18)-1 -> #DIV/0!
C20: Budget | D20: Expenditures | E20: Balance
B21: Totals | C21: =C17+C18 -> 0 | D21: =SUM(D17:M18) -> 0 | E21: =C21-D21 -> 0

Sheet Strategy 4 Quarterly Spend
B1: County Name: | C1: =VLOOKUP(B1,'Spend Plan'!B5:L5,2,0) -> Siskiyou | O1: alpine
B3: Strategy 4 | C3: Allocation
A4: =O1 -> alpine | C4: ='Spend Plan'!I49 -> 326728
B6: Strategy 4 Budget | D6: Year 1 Quarterly Expenditure Report | H6: Year 2 Quarterly Expenditure Report | L6: Year 3 Quarterly Expenditure Report | N6: Balance
B7: Budget Category | C7: Budgeted Amount | D7: 1st Quarter May 2020 - July 2020 | E7: 2nd Quarter August 2020 - October 2020 | F7: 3rd Quarter November 2020 - January 2021 | G7: 4th Quarter February 2021 - April 2021 | H7: 1st Quarter May 2021 - July 2021 | I7: 2nd Quarter August 2021 - October 2021 | J7: 3rd Quarter November 2021 - January 2022 | K7: 4th Quarter February 2022 - April 2022 | L7: 1st Quarter May 2022 - July 2022 | M7: Final Closeout | O7: % change
B8: Salary | C8: =SUM('Spend Plan'!I17)-'Spend Plan'!I16 -> 0 | N8: =C8-SUM(D8:M8) -> 0 | O8: =(D8/C8)-1 -> #DIV/0!
B9: Fringe | C9: ='Spend Plan'!I16 -> 0 | N9: =C9-SUM(D9:M9) -> 0
